0.00000000000000
0.09000000000000
0.09000000000000
-0.00000000000000
688656.15692496556000
255892.96973187980000
