0.00000000000000
0.09000000000000
0.09000000000000
-0.00000000000000
688681.15692496556000
259808.96973187980000
