0.00000000000000
0.09000000000000
0.09000000000000
-0.00000000000000
688661.15692496556000
267009.96973187983000
