0.00000000000000
0.09000000000000
0.09000000000000
-0.00000000000000
688659.15692496556000
268316.96973187983000
