0.00000000000000
0.09000000000000
0.09000000000000
-0.00000000000000
688677.15692496556000
270235.96973187983000
