0.00000000000000
0.09000000000000
0.09000000000000
-0.00000000000000
688674.15692496556000
270857.96973187983000
