0.00000000000000
0.09000000000000
0.09000000000000
-0.00000000000000
688692.15692496556000
279499.96973187983000
