0.00000000000000
0.09000000000000
0.09000000000000
-0.00000000000000
688702.15692496556000
280840.96973187983000
