0.00000000000000
0.09000000000000
0.09000000000000
-0.00000000000000
688708.15692496556000
282802.96973187983000
