-0.00000000000000
-0.09000000000000
-0.09000000000000
0.00000000000000
689110.84307503444000
253994.03026812020000
