-0.00000000000000
-0.09000000000000
-0.09000000000000
0.00000000000000
689128.84307503444000
259645.03026812020000
