-0.00000000000000
-0.09000000000000
-0.09000000000000
0.00000000000000
689132.84307503444000
260806.03026812020000
