-0.00000000000000
-0.09000000000000
-0.09000000000000
0.00000000000000
689126.84307503444000
271220.03026812017000
