-0.00000000000000
-0.09000000000000
-0.09000000000000
0.00000000000000
689148.84307503444000
277963.03026812017000
