-0.00000000000000
-0.09000000000000
-0.09000000000000
0.00000000000000
689147.84307503444000
280523.03026812017000
