0.00000000000000
0.09000000000000
0.09000000000000
-0.00000000000000
686356.15692496556000
272188.96973187983000
