0.00000000000000
0.09000000000000
0.09000000000000
-0.00000000000000
686379.15692496556000
276102.96973187983000
