0.08994517443172
0.00314095470323
0.00314095470323
-0.08994517443172
668541.16185545526000
260220.61210262400000
