0.00000000000000
0.09000000000000
0.09000000000000
-0.00000000000000
686559.22377496224000
255292.39970634450000
