0.00000000000000
0.09000000000000
0.09000000000000
-0.00000000000000
686530.22377496224000
258212.39970634450000
