0.00000000000000
0.09000000000000
0.09000000000000
-0.00000000000000
686540.22377496224000
259137.39970634450000
