0.00000000000000
0.09000000000000
0.09000000000000
-0.00000000000000
686543.22377496224000
260937.39970634450000
