0.00000000000000
0.09000000000000
0.09000000000000
-0.00000000000000
686518.22377496224000
264334.39970634453000
