-0.00000000000000
-0.09000000000000
-0.09000000000000
0.00000000000000
687225.77622503776000
252090.60029365550000
