-0.00000000000000
-0.09000000000000
-0.09000000000000
0.00000000000000
687220.77622503776000
254210.60029365550000
