-0.00000000000000
-0.09000000000000
-0.09000000000000
0.00000000000000
687212.77622503776000
258215.60029365550000
