-0.00000000000000
-0.09000000000000
-0.09000000000000
0.00000000000000
687216.77622503776000
261304.60029365550000
