-0.00000000000000
-0.09000000000000
-0.09000000000000
0.00000000000000
687187.77622503776000
265847.60029365547000
