-0.00000000000000
-0.09000000000000
-0.09000000000000
0.00000000000000
687188.77622503776000
266917.60029365547000
