-0.00000000000000
-0.09000000000000
-0.09000000000000
0.00000000000000
687199.77622503776000
268977.60029365547000
