-0.00000000000000
-0.09000000000000
-0.09000000000000
0.00000000000000
687181.77622503776000
269989.60029365547000
