0.00000000000000
0.09000000000000
0.09000000000000
-0.00000000000000
684354.22377496224000
254643.39970634450000
