0.00000000000000
0.09000000000000
0.09000000000000
-0.00000000000000
684340.22377496224000
260635.39970634450000
