0.00000000000000
0.09000000000000
0.09000000000000
-0.00000000000000
684331.22377496224000
262303.39970634453000
