0.00000000000000
0.09000000000000
0.09000000000000
-0.00000000000000
684326.22377496224000
265313.39970634453000
