0.00000000000000
0.09000000000000
0.09000000000000
-0.00000000000000
684325.22377496224000
265938.39970634453000
