0.00000000000000
0.09000000000000
0.09000000000000
-0.00000000000000
684316.22377496224000
271876.39970634453000
