0.00000000000000
0.09000000000000
0.09000000000000
-0.00000000000000
683250.22377496224000
251057.39970634450000
