0.00000000000000
0.09000000000000
0.09000000000000
-0.00000000000000
683242.22377496224000
252861.39970634450000
