0.00000000000000
0.09000000000000
0.09000000000000
-0.00000000000000
683254.22377496224000
254060.39970634450000
