0.00000000000000
0.09000000000000
0.09000000000000
-0.00000000000000
683255.22377496224000
255854.39970634450000
