0.00000000000000
0.09000000000000
0.09000000000000
-0.00000000000000
683245.22377496224000
257635.39970634450000
