0.00000000000000
0.09000000000000
0.09000000000000
-0.00000000000000
683240.22377496224000
261177.39970634450000
