0.00000000000000
0.09000000000000
0.09000000000000
-0.00000000000000
683224.22377496224000
264087.39970634453000
