0.00000000000000
0.09000000000000
0.09000000000000
-0.00000000000000
683226.22377496224000
264669.39970634453000
