0.00000000000000
0.09000000000000
0.09000000000000
-0.00000000000000
683217.22377496224000
270128.39970634453000
