0.00000000000000
0.09000000000000
0.09000000000000
-0.00000000000000
683231.22377496224000
271325.39970634453000
