0.00000000000000
0.09000000000000
0.09000000000000
-0.00000000000000
683212.22377496224000
273020.39970634453000
