0.00000000000000
0.09000000000000
0.09000000000000
-0.00000000000000
683214.22377496224000
273573.39970634453000
