-0.00000000000000
-0.09000000000000
-0.09000000000000
0.00000000000000
683900.77622503776000
259918.60029365550000
